Workbook

Sheet Sheet1
A1: 序号 | B1: 姓 名 | C1: 年级 | D1: 类别 | E1: 班级 | F1: 提交入党申请书时间
A2: 1 | B2: 王佳纯 | C2: =VLOOKUP(B2,[1]Sheet2!$B$2:$E$227,2,0) -> 2019级 | D2: 本科生 | E2: =VLOOKUP(B2,[1]Sheet2!$B$2:$E$227,4,0) -> 数创 | F2: 2019-10-07
A3: 2 | B3: 黄亦婷 | C3: =VLOOKUP(B3,[1]Sheet2!$B$2:$E$227,2,0) -> 2019级 | D3: 本科生 | E3: =VLOOKUP(B3,[1]Sheet2!$B$2:$E$227,4,0) -> 数创 | F3: 2020-09-25
A4: 3 | B4: 神俊杰 | C4: =VLOOKUP(B4,[1]Sheet2!$B$2:$E$227,2,0) -> 2019级 | D4: 本科生 | E4: =VLOOKUP(B4,[1]Sheet2!$B$2:$E$227,4,0) -> 数创 | F4: 2021-10-07
A5: 4 | B5: 罗嘉伟 | C5: =VLOOKUP(B5,[1]Sheet2!$B$2:$E$227,2,0) -> 2019级 | D5: 本科生 | E5: =VLOOKUP(B5,[1]Sheet2!$B$2:$E$227,4,0) -> 统计 | F5: 2019-10-01
A6: 5 | B6: 郑泽宇 | C6: =VLOOKUP(B6,[1]Sheet2!$B$2:$E$227,2,0) -> 2019级 | D6: 本科生 | E6: =VLOOKUP(B6,[1]Sheet2!$B$2:$E$227,4,0) -> 统计 | F6: 2019-10-01
A7: 6 | B7: 吴伟添 | C7: =VLOOKUP(B7,[1]Sheet2!$B$2:$E$227,2,0) -> 2019级 | D7: 本科生 | E7: =VLOOKUP(B7,[1]Sheet2!$B$2:$E$227,4,0) -> 统计 | F7: 2019-09-26
A8: 7 | B8: 赵珊 | C8: =VLOOKUP(B8,[1]Sheet2!$B$2:$E$227,2,0) -> 2019级 | D8: 本科生 | E8: =VLOOKUP(B8,[1]Sheet2!$B$2:$E$227,4,0) -> 统计 | F8: 2020-09-14
A9: 8 | B9: 祝捷 | C9: =VLOOKUP(B9,[1]Sheet2!$B$2:$E$227,2,0) -> 2019级 | D9: 本科生 | E9: =VLOOKUP(B9,[1]Sheet2!$B$2:$E$227,4,0) -> 信管 | F9: 2019-10-01
A10: 9 | B10: 祝焜 | C10: =VLOOKUP(B10,[1]Sheet2!$B$2:$E$227,2,0) -> 2019级 | D10: 本科生 | E10: =VLOOKUP(B10,[1]Sheet2!$B$2:$E$227,4,0) -> 信管 | F10: 2019-09-30
A11: 10 | B11: 周米轲 | C11: =VLOOKUP(B11,[1]Sheet2!$B$2:$E$227,2,0) -> 2019级 | D11: 本科生 | E11: =VLOOKUP(B11,[1]Sheet2!$B$2:$E$227,4,0) -> 信管 | F11: 2019-09-26
A12: 11 | B12: 洪钦敬 | C12: =VLOOKUP(B12,[1]Sheet2!$B$2:$E$227,2,0) -> 2019级 | D12: 本科生 | E12: =VLOOKUP(B12,[1]Sheet2!$B$2:$E$227,4,0) -> 信管 | F12: 2019-09-30
A13: 12 | B13: 江衡 | C13: =VLOOKUP(B13,[1]Sheet2!$B$2:$E$227,2,0) -> 2019级 | D13: 本科生 | E13: =VLOOKUP(B13,[1]Sheet2!$B$2:$E$227,4,0) -> 信管 | F13: 2019-10-01
... A21: 20 | B21: 武先鹏 | C21: =VLOOKUP(B21,[1]Sheet2!$B$2:$E$227,2,0) -> 2019级 | D21: 本科生 | E21: =VLOOKUP(B21,[1]Sheet2!$B$2:$E$227,4,0) -> 信管 | F21: 2020-03-28
A22: 21 | B22: 唐江 | C22: 2019级 | D22: 本科生 | E22: 信管 | F22: 2021-10-07
A23: 22 | B23: 龚力川 | C23: =VLOOKUP(B23,[1]Sheet2!$B$2:$E$227,2,0) -> 2019级 | D23: 本科生 | E23: =VLOOKUP(B23,[1]Sheet2!$B$2:$E$227,4,0) -> 信管 | F23: 2021-03-07
A24: 23 | B24: 梁茜柔 | C24: =VLOOKUP(B24,[1]Sheet2!$B$2:$E$227,2,0) -> 2019级 | D24: 本科生 | E24: =VLOOKUP(B24,[1]Sheet2!$B$2:$E$227,4,0) -> 信管 | F24: 2021-03-01
A25: 24 | B25: 招梓睿 | C25: =VLOOKUP(B25,[1]Sheet2!$B$2:$E$227,2,0) -> 2019级 | D25: 本科生 | E25: =VLOOKUP(B25,[1]Sheet2!$B$2:$E$227,4,0) -> 信计 | F25: 2019-10-01
A26: 25 | B26: 郭一鸣 | C26: =VLOOKUP(B26,[1]Sheet2!$B$2:$E$227,2,0) -> 2019级 | D26: 本科生 | E26: =VLOOKUP(B26,[1]Sheet2!$B$2:$E$227,4,0) -> 信计 | F26: 2019-10-06
A27: 26 | B27: 程睿 | C27: =VLOOKUP(B27,[1]Sheet2!$B$2:$E$227,2,0) -> 2019级 | D27: 本科生 | E27: =VLOOKUP(B27,[1]Sheet2!$B$2:$E$227,4,0) -> 信计 | F27: 2019-10-06
A28: 27 | B28: 范焕杰 | C28: =VLOOKUP(B28,[1]Sheet2!$B$2:$E$227,2,0) -> 2019级 | D28: 本科生 | E28: =VLOOKUP(B28,[1]Sheet2!$B$2:$E$227,4,0) -> 信计 | F28: 2019-10-01
A29: 28 | B29: 林睿聪 | C29: =VLOOKUP(B29,[1]Sheet2!$B$2:$E$227,2,0) -> 2019级 | D29: 本科生 | E29: =VLOOKUP(B29,[1]Sheet2!$B$2:$E$227,4,0) -> 信计 | F29: 2019-10-01
A30: 29 | B30: 张佳颖 | C30: =VLOOKUP(B30,[1]Sheet2!$B$2:$E$227,2,0) -> 2019级 | D30: 本科生 | E30: =VLOOKUP(B30,[1]Sheet2!$B$2:$E$227,4,0) -> 信计 | F30: 2019-10-06
A31: 30 | B31: 欧阳旭 | C31: =VLOOKUP(B31,[1]Sheet2!$B$2:$E$227,2,0) -> 2019级 | D31: 本科生 | E31: =VLOOKUP(B31,[1]Sheet2!$B$2:$E$227,4,0) -> 信计 | F31: 2019-10-01
A32: 31 | B32: 毛昱恒 | C32: =VLOOKUP(B32,[1]Sheet2!$B$2:$E$227,2,0) -> 2019级 | D32: 本科生 | E32: =VLOOKUP(B32,[1]Sheet2!$B$2:$E$227,4,0) -> 信计 | F32: 2019-10-07
A33: 32 | B33: 黄博 | C33: =VLOOKUP(B33,[1]Sheet2!$B$2:$E$227,2,0) -> 2019级 | D33: 本科生 | E33: =VLOOKUP(B33,[1]Sheet2!$B$2:$E$227,4,0) -> 信计 | F33: 2019-10-01
A34: 33 | B34: 袁华谦 | C34: =VLOOKUP(B34,[1]Sheet2!$B$2:$E$227,2,0) -> 2019级 | D34: 本科生 | E34: =VLOOKUP(B34,[1]Sheet2!$B$2:$E$227,4,0) -> 信计 | F34: 2019-10-07
... A42: 41 | B42: 曹怀志 | C42: =VLOOKUP(B42,[1]Sheet2!$B$2:$E$227,2,0) -> 2019级 | D42: 本科生 | E42: =VLOOKUP(B42,[1]Sheet2!$B$2:$E$227,4,0) -> 应数 | F42: 2021-03-09
A43: 42 | B43: 刘妍杞 | C43: =VLOOKUP(B43,Sheet2!$B$2:$E$227,2,0) -> 2020级 | D43: 本科生 | E43: =VLOOKUP(B43,Sheet2!$B$2:$E$227,4,0) -> 强基计划 | F43: 2021-10-08
A44: 43 | B44: 孙华峰 | C44: =VLOOKUP(B44,Sheet2!$B$2:$E$227,2,0) -> 2020级 | D44: 本科生 | E44: =VLOOKUP(B44,Sheet2!$B$2:$E$227,4,0) -> 强基计划 | F44: 2021-10-08
A45: 44 | B45: 常浩然 | C45: =VLOOKUP(B45,Sheet2!$B$2:$E$227,2,0) -> 2020级 | D45: 本科生 | E45: =VLOOKUP(B45,Sheet2!$B$2:$E$227,4,0) -> 强基计划 | F45: 2021-03-09
A46: 45 | B46: 蒋心语 | C46: 2020级 | D46: 本科生 | E46: 强基计划 | F46: 44625
A47: 46 | B47: 翟腾飞 | C47: 2020级 | D47: 本科生 | E47: 强基计划 | F47: 44824
A48: 47 | B48: 郑杰元 | C48: 2020级 | D48: 本科生 | E48: 强基计划 | F48: 44822
A49: 48 | B49: 许浩楠 | C49: 2020级 | D49: 本科生 | E49: 强基计划 | F49: 44826
A50: 49 | B50: 何俊霖 | C50: =VLOOKUP(B50,Sheet2!$B$2:$E$227,2,0) -> 2020级 | D50: 本科生 | E50: =VLOOKUP(B50,Sheet2!$B$2:$E$227,4,0) -> 统计 | F50: 2020-09-29
A51: 50 | B51: 李洁畅 | C51: 2020级 | D51: 本科生 | E51: 统计 | F51: 2021-10-07
A52: 51 | B52: 蒋健文 | C52: 2020级 | D52: 本科生 | E52: 统计 | F52: 2021-10-07
A53: 52 | B53: 叶银辉 | C53: 2020级 | D53: 本科生 | E53: 统计 | F53: 2021-10-07
A54: 53 | B54: 陈卓睿 | C54: =VLOOKUP(B54,Sheet2!$B$2:$E$227,2,0) -> 2020级 | D54: 本科生 | E54: =VLOOKUP(B54,Sheet2!$B$2:$E$227,4,0) -> 统计 | F54: 2020-09-27
A55: 54 | B55: 刘天一 | C55: 2020级 | D55: 本科生 | E55: 统计 | F55: 44829
A56: 55 | B56: 张弛 | C56: =VLOOKUP(B56,Sheet2!$B$2:$E$227,2,0) -> 2020级 | D56: 本科生 | E56: =VLOOKUP(B56,Sheet2!$B$2:$E$227,4,0) -> 信管 | F56: 2021-03-07
A57: 56 | B57: 张馥妍 | C57: =VLOOKUP(B57,Sheet2!$B$2:$E$227,2,0) -> 2020级 | D57: 本科生 | E57: =VLOOKUP(B57,Sheet2!$B$2:$E$227,4,0) -> 信管 | F57: 2020-09-16
A58: 57 | B58: 石雨欣 | C58: =VLOOKUP(B58,Sheet2!$B$2:$E$227,2,0) -> 2020级 | D58: 本科生 | E58: =VLOOKUP(B58,Sheet2!$B$2:$E$227,4,0) -> 信管 | F58: 2021-03-08
A59: 58 | B59: 钱树新 | C59: 2020级 | D59: 本科生 | E59: 信管 | F59: 44634
A60: 59 | B60: 曹有军 | C60: 2020级 | D60: 本科生 | E60: 信管 | F60: 44635
A61: 60 | B61: 熊喆 | C61: 2020级 | D61: 本科生 | E61: 信管 | F61: 44826
A62: 61 | B62: 周逸文 | C62: 2020级 | D62: 本科生 | E62: 信管 | F62: 44822
A63: 62 | B63: 吕阳 | C63: 2020级 | D63: 本科生 | E63: 信管 | F63: 44826
A64: 63 | B64: 黄以恒 | C64: 2020级 | D64: 本科生 | E64: 信管 | F64: 44822
A65: 64 | B65: 赵晓祎 | C65: 2020级 | D65: 本科生 | E65: 信管 | F65: 44829
A66: 65 | B66: 杨乐健 | C66: =VLOOKUP(B66,Sheet2!$B$2:$E$227,2,0) -> 2020级 | D66: 本科生 | E66: =VLOOKUP(B66,Sheet2!$B$2:$E$227,4,0) -> 信计 | F66: 2020-09-29
A67: 66 | B67: 魏巍 | C67: =VLOOKUP(B67,Sheet2!$B$2:$E$227,2,0) -> 2020级 | D67: 本科生 | E67: =VLOOKUP(B67,Sheet2!$B$2:$E$227,4,0) -> 信计 | F67: 2020-09-15
A68: 67 | B68: 邹智昊 | C68: 2020级 | D68: 本科生 | E68: 信计 | F68: 2020-09-26
A69: 68 | B69: 蒋国政 | C69: =VLOOKUP(B69,Sheet2!$B$2:$E$227,2,0) -> 2020级 | D69: 本科生 | E69: =VLOOKUP(B69,Sheet2!$B$2:$E$227,4,0) -> 信计 | F69: 2020-09-28
A70: 69 | B70: 李子运 | C70: =VLOOKUP(B70,Sheet2!$B$2:$E$227,2,0) -> 2020级 | D70: 本科生 | E70: =VLOOKUP(B70,Sheet2!$B$2:$E$227,4,0) -> 信计 | F70: 2021-03-08
A71: 70 | B71: 周洪 | C71: =VLOOKUP(B71,Sheet2!$B$2:$E$227,2,0) -> 2020级 | D71: 本科生 | E71: =VLOOKUP(B71,Sheet2!$B$2:$E$227,4,0) -> 应数 | F71: 2020-09-23
A72: 71 | B72: 柯稳 | C72: 2020级 | D72: 本科生 | E72: 应数 | F72: 2021-10-06
A73: 72 | B73: 冯晨瑜 | C73: =VLOOKUP(B73,Sheet2!$B$2:$E$227,2,0) -> 2020级 | D73: 本科生 | E73: =VLOOKUP(B73,Sheet2!$B$2:$E$227,4,0) -> 应数 | F73: 2020-09-28
A74: 73 | B74: 黄涵瑞 | C74: =VLOOKUP(B74,Sheet2!$B$2:$E$227,2,0) -> 2020级 | D74: 本科生 | E74: =VLOOKUP(B74,Sheet2!$B$2:$E$227,4,0) -> 应数 | F74: 2021-03-07
A75: 74 | B75: 冯晨瑜 | C75: 2020级 | D75: 本科生 | E75: 应数 | F75: 44623
A76: 75 | B76: 别子阳 | C76: 2020级 | D76: 本科生 | E76: 应数 | F76: 44631
A77: 76 | B77: 李晓斌 | C77: 2020级 | D77: 本科生 | E77: 应数 | F77: 44268
A78: 77 | B78: 何奕函 | C78: 2021级 | D78: 本科生 | E78: 强基计划 | F78: 2021-09-25
A79: 78 | B79: 潘乐颜 | C79: 2021级 | D79: 本科生 | E79: 强基计划 | F79: 2021-09-29
A80: 79 | B80: 刘畅 | C80: 2021级 | D80: 本科生 | E80: 强基计划 | F80: 44828
A81: 80 | B81: 李扬睿 | C81: 2021级 | D81: 本科生 | E81: 强基计划 | F81: 2022-09-24
A82: 81 | B82: 梁旭晨 | C82: 2021级 | D82: 本科生 | E82: 强基计划 | F82: 2022-09-24
A83: 82 | B83: 任永维 | C83: 2021级 | D83: 本科生 | E83: =VLOOKUP(B83,Sheet3!$A$2:$B$268,2,0) -> 统计 | F83: 2021-09-14
A84: 83 | B84: 许希洋 | C84: 2021级 | D84: 本科生 | E84: =VLOOKUP(B84,Sheet3!$A$2:$B$268,2,0) -> 统计 | F84: 2021-09-14
A85: 84 | B85: 周饶东 | C85: 2021级 | D85: 本科生 | E85: =VLOOKUP(B85,Sheet3!$A$2:$B$268,2,0) -> 统计 | F85: 2021-09-14
A86: 85 | B86: 林冠熙 | C86: 2021级 | D86: 本科生 | E86: =VLOOKUP(B86,Sheet3!$A$2:$B$268,2,0) -> 统计 | F86: 2021-09-14
A87: 86 | B87: 潘力优 | C87: 2021级 | D87: 本科生 | E87: =VLOOKUP(B87,Sheet3!$A$2:$B$268,2,0) -> 统计 | F87: 2021-09-14
A88: 87 | B88: 姚浩楠 | C88: 2021级 | D88: 本科生 | E88: =VLOOKUP(B88,Sheet3!$A$2:$B$268,2,0) -> 统计 | F88: 2021-10-08
A89: 88 | B89: 陈瑶 | C89: 2021级 | D89: 本科生 | E89: =VLOOKUP(B89,Sheet3!$A$2:$B$268,2,0) -> 统计 | F89: 2021-10-08
A90: 89 | B90: 刘浩彬 | C90: 2021级 | D90: 本科生 | E90: =VLOOKUP(B90,Sheet3!$A$2:$B$268,2,0) -> 统计 | F90: 2021-10-08
A91: 90 | B91: 曹庭毓 | C91: 2021级 | D91: 本科生 | E91: =VLOOKUP(B91,Sheet3!$A$2:$B$268,2,0) -> 统计 | F91: 2021-09-26
A92: 91 | B92: 陈芮佳 | C92: 2021级 | D92: 本科生 | E92: =VLOOKUP(B92,Sheet3!$A$2:$B$268,2,0) -> 统计 | F92: 44633
A93: 92 | B93: 何家裕 | C93: 2021级 | D93: 本科生 | E93: =VLOOKUP(B93,Sheet3!$A$2:$B$268,2,0) -> 统计 | F93: 2021-09-24
A94: 93 | B94: 李顺贤 | C94: 2021级 | D94: 本科生 | E94: =VLOOKUP(B94,Sheet3!$A$2:$B$268,2,0) -> 统计 | F94: 2021-09-14
A95: 94 | B95: 陈莹莹 | C95: 2021级 | D95: 本科生 | E95: =VLOOKUP(B95,Sheet3!$A$2:$B$268,2,0) -> 统计 | F95: 44634
A96: 95 | B96: 黄扬洋 | C96: 2021级 | D96: 本科生 | E96: 信管 | F96: 44634
A97: 96 | B97: 钟子龙 | C97: 2021级 | D97: 本科生 | E97: =VLOOKUP(B97,Sheet3!$A$2:$B$268,2,0) -> 信管 | F97: 2021-09-14
A98: 97 | B98: 卢炫宇 | C98: 2021级 | D98: 本科生 | E98: =VLOOKUP(B98,Sheet3!$A$2:$B$268,2,0) -> 信管 | F98: 2021-09-14
A99: 98 | B99: 严钦昊 | C99: 2021级 | D99: 本科生 | E99: =VLOOKUP(B99,Sheet3!$A$2:$B$268,2,0) -> 信管 | F99: 2021-10-08
A100: 99 | B100: 陈佳欣 | C100: 2021级 | D100: 本科生 | E100: =VLOOKUP(B100,Sheet3!$A$2:$B$268,2,0) -> 信管 | F100: 2021-09-27
A101: 100 | B101: 朱慎瑛 | C101: 2021级 | D101: 本科生 | E101: =VLOOKUP(B101,Sheet3!$A$2:$B$268,2,0) -> 信管 | F101: 2021-09-29
A102: 101 | B102: 王健博 | C102: 2021级 | D102: 本科生 | E102: =VLOOKUP(B102,Sheet3!$A$2:$B$268,2,0) -> 信管 | F102: 44633
A103: 102 | B103: 蔡永瑝 | C103: 2021级 | D103: 本科生 | E103: =VLOOKUP(B103,Sheet3!$A$2:$B$268,2,0) -> 信管 | F103: 2021-09-24
A104: 103 | B104: 陈昱镕 | C104: 2021级 | D104: 本科生 | E104: =VLOOKUP(B104,Sheet3!$A$2:$B$268,2,0) -> 信管 | F104: 44634
A105: 104 | B105: 方若兰 | C105: 2021级 | D105: 本科生 | E105: =VLOOKUP(B105,Sheet3!$A$2:$B$268,2,0) -> 信管 | F105: 44634
A106: 105 | B106: 陈俏丽 | C106: 2021级 | D106: 本科生 | E106: 信管 | F106: 44829
A107: 106 | B107: 方珍 | C107: 2021级 | D107: 本科生 | E107: 信管 | F107: 44829
A108: 107 | B108: 陈吉鹏 | C108: 2021级 | D108: 本科生 | E108: 信管 | F108: 44829
A109: 108 | B109: 翁东烽 | C109: 2021级 | D109: 本科生 | E109: 信管 | F109: 44829
A110: 109 | B110: 凌磊 | C110: 2021级 | D110: 本科生 | E110: =VLOOKUP(B110,Sheet3!$A$2:$B$268,2,0) -> 信计 | F110: 2021-09-14
A111: 110 | B111: 柯雨欣 | C111: 2021级 | D111: 本科生 | E111: =VLOOKUP(B111,Sheet3!$A$2:$B$268,2,0) -> 信计 | F111: 2021-09-14
A112: 111 | B112: 许欣 | C112: 2021级 | D112: 本科生 | E112: =VLOOKUP(B112,Sheet3!$A$2:$B$268,2,0) -> 信计 | F112: 2021-10-08
A113: 112 | B113: 蓝偌淇 | C113: 2021级 | D113: 本科生 | E113: =VLOOKUP(B113,Sheet3!$A$2:$B$268,2,0) -> 信计 | F113: 2021-10-08
A114: 113 | B114: 王永晖 | C114: 2021级 | D114: 本科生 | E114: =VLOOKUP(B114,Sheet3!$A$2:$B$268,2,0) -> 信计 | F114: 44625
...

Sheet Sheet3
A1: 姓名 | B1: 专业
A2: 黄佳羽 | B2: 统计
A3: 陈梓婷 | B3: 统计
A4: 任家莹 | B4: 统计
A5: 任婉莹 | B5: 统计
A6: 张敏 | B6: 统计
A7: 吕秋榆 | B7: 统计
A8: 方家欣 | B8: 统计
A9: 左晓乐 | B9: 统计
A10: 李欣 | B10: 统计
A11: 李泓润 | B11: 统计
A12: 林乐 | B12: 统计
... A268: 陈逸帆 | B268: 应数

Sheet Sheet2
A1: 序号 | B1: 姓 名 | C1: 年级 | D1: 类别 | E1: 班级 | F1: 提交入党申请书时间
A2: 1 | B2: 于泽睿 | C2: 2018级 | D2: 本科生 | E2: 数创 | F2: 44476
A3: 2 | B3: 吴启扬 | C3: 2018级 | D3: 本科生 | E3: 数创 | F3: 44477
A4: 3 | B4: 蒋玉琪 | C4: 2018级 | D4: 本科生 | E4: 数创 | F4: 2019-09-05
A5: 4 | B5: 周紫璇 | C5: 2018级 | D5: 本科生 | E5: 数创 | F5: 2019-09-09
A6: 5 | B6: 陈信宇 | C6: 2018级 | D6: 本科生 | E6: 统计 | F6: 43918
A7: 6 | B7: 姚静怡 | C7: 2018级 | D7: 本科生 | E7: 统计 | F7: 44087
A8: 7 | B8: 何韶峰 | C8: 2018级 | D8: 本科生 | E8: 统计 | F8: 44260
A9: 8 | B9: 黄锐浩 | C9: 2018级 | D9: 本科生 | E9: 统计 | F9: 2018-09-11
A10: 9 | B10: 谢容丰 | C10: 2018级 | D10: 本科生 | E10: 统计 | F10: 2018-09-14
A11: 10 | B11: 王宝琪 | C11: 2018级 | D11: 本科生 | E11: 统计 | F11: 2019-09-08
A12: 11 | B12: 陈志豪 | C12: 2018级 | D12: 本科生 | E12: 应数 | F12: 2019-03-17
A13: 12 | B13: 张钰杰 | C13: 2018级 | D13: 本科生 | E13: 应数 | F13: 2019-09-08
A14: 13 | B14: 鹿易 | C14: 2018级 | D14: 本科生 | E14: 信计 | F14: 44102
A15: 14 | B15: 黄华坚 | C15: 2018级 | D15: 本科生 | E15: 信计 | F15: 2019-03-07
A16: 15 | B16: 李丹芸 | C16: 2018级 | D16: 本科生 | E16: 信管 | F16: 2018-09-12
A17: 16 | B17: 吴国聪 | C17: 2018级 | D17: 本科生 | E17: 信管 | F17: 2018-09-12
A18: 17 | B18: 余文婷 | C18: 2018级 | D18: 本科生 | E18: 信管 | F18: 2018-09-13
A19: 18 | B19: 王欣宇 | C19: 2018级 | D19: 本科生 | E19: 信管 | F19: 2018-10-29
A20: 19 | B20: 王宏涛 | C20: 2019级 | D20: 研究生 | F20: 43913
A21: 20 | B21: 黄佳琪 | C21: 2019级 | D21: 研究生 | F21: 2015-03-25
A22: 21 | B22: 姜安国 | C22: 2019级 | D22: 研究生 | F22: 2019-10-01
A23: 22 | B23: 徐源 | C23: 2019级 | D23: 研究生 | F23: 2019-10-01
A24: 23 | B24: 王佳纯 | C24: 2019级 | D24: 本科生 | E24: 数创 | F24: 43745
A25: 24 | B25: 黄亦婷 | C25: 2019级 | D25: 本科生 | E25: 数创 | F25: 44099
A26: 25 | B26: 杨永华 | C26: 2019级 | D26: 本科生 | E26: 数创 | F26: 44476
A27: 26 | B27: 神俊杰 | C27: 2019级 | D27: 本科生 | E27: 数创 | F27: 44476
A28: 27 | B28: 吴伟添 | C28: 2019级 | D28: 本科生 | E28: 统计 | F28: 43734
A29: 28 | B29: 罗嘉伟 | C29: 2019级 | D29: 本科生 | E29: 统计 | F29: 43739
A30: 29 | B30: 郑泽宇 | C30: 2019级 | D30: 本科生 | E30: 统计 | F30: 43739
A31: 30 | B31: 熊明威 | C31: 2019级 | D31: 本科生 | E31: 统计 | F31: 43744
A32: 31 | B32: 苏汉标 | C32: 2019级 | D32: 本科生 | E32: 统计 | F32: 43745
A33: 32 | B33: 赵珊 | C33: 2019级 | D33: 本科生 | E33: 统计 | F33: 44088
A34: 33 | B34: 罗明涛 | C34: 2019级 | D34: 本科生 | E34: 统计 | F34: 44264
A35: 34 | B35: 康泓宇 | C35: 2019级 | D35: 本科生 | E35: 统计 | F35: 44475
... A72: 71 | B72: 罗湘 | C72: 2019级 | D72: 本科生 | E72: 信计 | F72: 44477
A73: 72 | B73: 梁鑫 | C73: 2020级 | D73: 研究生 | F73: 44114
A74: 73 | B74: 李宗浩 | C74: 2020级 | D74: 研究生 | F74: 44115
A75: 74 | B75: 侯颖馨 | C75: 2020级 | D75: 研究生 | F75: 44117
A76: 75 | B76: 尹珍 | C76: 2020级 | D76: 研究生 | F76: 44117
A77: 76 | B77: 邓小恒 | C77: 2020级 | D77: 研究生 | F77: 44257
A78: 77 | B78: 常浩然 | C78: 2020级 | D78: 本科生 | E78: 强基计划 | F78: 44264
A79: 78 | B79: 关盼 | C79: 2020级 | D79: 本科生 | E79: 强基计划 | F79: 44105
A80: 79 | B80: 刘妍杞 | C80: 2020级 | D80: 本科生 | E80: 强基计划 | F80: 44477
A81: 80 | B81: 杨茜然 | C81: 2020级 | D81: 本科生 | E81: 强基计划 | F81: 44103
A82: 81 | B82: 孙华峰 | C82: 2020级 | D82: 本科生 | E82: 强基计划 | F82: 44477
A83: 82 | B83: 索瑶芳 | C83: 2020级 | D83: 本科生 | E83: 强基计划 | F83: 2020-09-26
A84: 83 | B84: 何俊霖 | C84: 2020级 | D84: 本科生 | E84: 统计 | F84: 44103
A85: 84 | B85: 闫肃 | C85: 2020级 | D85: 本科生 | E85: 统计 | F85: 44093
A86: 85 | B86: 梁颖思 | C86: 2020级 | D86: 本科生 | E86: 统计 | F86: 44100
A87: 86 | B87: 傅小登 | C87: 2020级 | D87: 本科生 | E87: 统计 | F87: 44257
A88: 87 | B88: 罗华阳 | C88: 2020级 | D88: 本科生 | E88: 统计 | F88: 44264
A89: 88 | B89: 陈卓睿 | C89: 2020级 | D89: 本科生 | E89: 统计 | F89: 44101
A90: 89 | B90: 许钰辉 | C90: 2020级 | D90: 本科生 | E90: 统计 | F90: 44260
A91: 90 | B91: 黎星鹏 | C91: 2020级 | D91: 本科生 | E91: 应数 | F91: 43899
A92: 91 | B92: 周洪 | C92: 2020级 | D92: 本科生 | E92: 应数 | F92: 44097
A93: 92 | B93: 宋佳丽 | C93: 2020级 | D93: 本科生 | E93: 应数 | F93: 44264
A94: 93 | B94: 叶一冲 | C94: 2020级 | D94: 本科生 | E94: 应数 | F94: 44103
A95: 94 | B95: 王音枝 | C95: 2020级 | D95: 本科生 | E95: 应数 | F95: 44255
A96: 95 | B96: 李劭一 | C96: 2020级 | D96: 本科生 | E96: 应数 | F96: 44477
A97: 96 | B97: 冯晨瑜 | C97: 2020级 | D97: 本科生 | E97: 应数 | F97: 2020-09-28
A98: 97 | B98: 贺洋 | C98: 2020级 | D98: 本科生 | E98: 应数 | F98: 44477
A99: 98 | B99: 柯稳 | C99: 2020级 | D99: 本科生 | E99: 应数 | F99: 44475
A100: 99 | B100: 李梓豪 | C100: 2020级 | D100: 本科生 | E100: 应数 | F100: 44261
A101: 100 | B101: 杨航 | C101: 2020级 | D101: 本科生 | E101: 应数 | F101: 2020-09-25
A102: 101 | B102: 黄涵瑞 | C102: 2020级 | D102: 本科生 | E102: 应数 | F102: 2021-03-07
A103: 102 | B103: 罗高健 | C103: 2020级 | D103: 本科生 | E103: 应数 | F103: 44476
A104: 103 | B104: 李俊辰 | C104: 2020级 | D104: 本科生 | E104: 应数 | F104: 44476
A105: 104 | B105: 黄心悦 | C105: 2020级 | D105: 本科生 | E105: 应数 | F105: 44476
A106: 105 | B106: 缪婷 | C106: 2020级 | D106: 本科生 | E106: 信计 | F106: 44103
A107: 106 | B107: 杨乐健 | C107: 2020级 | D107: 本科生 | E107: 信计 | F107: 44103
A108: 107 | B108: 魏巍 | C108: 2020级 | D108: 本科生 | E108: 信计 | F108: 44089
A109: 108 | B109: 冀佳宝 | C109: 2020级 | D109: 本科生 | E109: 信计 | F109: 44090
A110: 109 | B110: 邱恩建 | C110: 2020级 | D110: 本科生 | E110: 信计 | F110: 44261
A111: 110 | B111: 蒋国政 | C111: 2020级 | D111: 本科生 | E111: 信计 | F111: 44102
A112: 111 | B112: 李子运 | C112: 2020级 | D112: 本科生 | E112: 信计 | F112: 44263
A113: 112 | B113: 陈凯旭 | C113: 2020级 | D113: 本科生 | E113: 信计 | F113: 44477
A114: 113 | B114: 彭琳玉 | C114: 2020级 | D114: 本科生 | E114: 信计 | F114: 44477
... A116: 115 | B116: 罗劭颉 | C116: 2020级 | D116: 本科生 | E116: 信管 | F116: 44476
A117: 116 | B117: 梁政和 | C117: 2020级 | D117: 本科生 | E117: 信管 | F117: 2021-10-08
A118: 117 | B118: 吴术智 | C118: 2020级 | D118: 本科生 | E118: 信管 | F118: 44261
A119: 118 | B119: 张弛 | C119: 2020级 | D119: 本科生 | E119: 信管 | F119: 44262
A120: 119 | B120: 石雨欣 | C120: 2020级 | D120: 本科生 | E120: 信管 | F120: 44263
A121: 120 | B121: 张馥妍 | C121: 2020级 | D121: 本科生 | E121: 信管 | F121: 44090
A122: 121 | B122: 杜旺林 | C122: 2020级 | D122: 本科生 | E122: 信管 | F122: 44263
A123: 122 | B123: 王扬 | C123: 2020级 | D123: 本科生 | E123: 信管 | F123: 2021-10-08
A124: 123 | B124: 麦靖怡 | C124: 2021级 | D124: 研究生 | F124: 44477
A125: 124 | B125: 董泽瀚 | C125: 2021级 | D125: 研究生 | F125: 44476
A126: 125 | B126: 张泰伟 | C126: 2021级 | D126: 研究生 | F126: 44477
A127: 126 | B127: 黄晓媛 | C127: 2021级 | D127: 研究生 | F127: 44475
A128: 127 | B128: 林佩杨 | C128: 2021级 | D128: 研究生 | F128: 44477
A129: 128 | B129: 班亚西 | C129: 2021级 | D129: 研究生 | F129: 44470
A130: 129 | B130: 郑衍芷 | C130: 2021级 | D130: 研究生 | F130: 44470
A131: 130 | B131: 凌佳欣 | C131: 2021级 | D131: 研究生 | F131: 44476
A132: 131 | B132: 孙宇 | C132: 2021级 | D132: 研究生 | F132: 44477
A133: 132 | B133: 廖欢 | C133: 2021级 | D133: 研究生 | F133: 44477
A134: 133 | B134: 郭娜平 | C134: 2021级 | D134: 研究生 | F134: 44477
A135: 134 | B135: 李日彤 | C135: 2021级 | D135: 研究生 | F135: 44477
... A138: 137 | B138: 邓沛鑫 | C138: 2021级 | D138: 研究生 | F138: 44477
A139: 138 | B139: 林浩贤 | C139: 2021级 | D139: 本科生 | E139: 强基计划 | F139: 44464
...
