Workbook

Sheet Sheet1
A1: 序号 | B1: 姓 名 | C1: 年级 | D1: 类别 | E1: 班级 | F1: 提交入党申请书时间
A2: 1 | B2: 王佳纯 | C2: =VLOOKUP(B2,[1]Sheet2!$B$2:$E$227,2,0) -> 2019级 | D2: 本科生 | E2: =VLOOKUP(B2,[1]Sheet2!$B$2:$E$227,4,0) -> 数创 | F2: 2019-10-07
A3: 2 | B3: 黄亦婷 | C3: =VLOOKUP(B3,[1]Sheet2!$B$2:$E$227,2,0) -> 2019级 | D3: 本科生 | E3: =VLOOKUP(B3,[1]Sheet2!$B$2:$E$227,4,0) -> 数创 | F3: 2020-09-25
A4: 3 | B4: 神俊杰 | C4: =VLOOKUP(B4,[1]Sheet2!$B$2:$E$227,2,0) -> 2019级 | D4: 本科生 | E4: =VLOOKUP(B4,[1]Sheet2!$B$2:$E$227,4,0) -> 数创 | F4: 2021-10-07
A5: 4 | B5: 罗嘉伟 | C5: =VLOOKUP(B5,[1]Sheet2!$B$2:$E$227,2,0) -> 2019级 | D5: 本科生 | E5: =VLOOKUP(B5,[1]Sheet2!$B$2:$E$227,4,0) -> 统计 | F5: 2019-10-01
A6: 5 | B6: 郑泽宇 | C6: =VLOOKUP(B6,[1]Sheet2!$B$2:$E$227,2,0) -> 2019级 | D6: 本科生 | E6: =VLOOKUP(B6,[1]Sheet2!$B$2:$E$227,4,0) -> 统计 | F6: 2019-10-01
A7: 6 | B7: 吴伟添 | C7: =VLOOKUP(B7,[1]Sheet2!$B$2:$E$227,2,0) -> 2019级 | D7: 本科生 | E7: =VLOOKUP(B7,[1]Sheet2!$B$2:$E$227,4,0) -> 统计 | F7: 2019-09-26
A8: 7 | B8: 赵珊 | C8: =VLOOKUP(B8,[1]Sheet2!$B$2:$E$227,2,0) -> 2019级 | D8: 本科生 | E8: =VLOOKUP(B8,[1]Sheet2!$B$2:$E$227,4,0) -> 统计 | F8: 2020-09-14
A9: 8 | B9: 祝捷 | C9: =VLOOKUP(B9,[1]Sheet2!$B$2:$E$227,2,0) -> 2019级 | D9: 本科生 | E9: =VLOOKUP(B9,[1]Sheet2!$B$2:$E$227,4,0) -> 信管 | F9: 2019-10-01
A10: 9 | B10: 祝焜 | C10: =VLOOKUP(B10,[1]Sheet2!$B$2:$E$227,2,0) -> 2019级 | D10: 本科生 | E10: =VLOOKUP(B10,[1]Sheet2!$B$2:$E$227,4,0) -> 信管 | F10: 2019-09-30
A11: 10 | B11: 周米轲 | C11: =VLOOKUP(B11,[1]Sheet2!$B$2:$E$227,2,0) -> 2019级 | D11: 本科生 | E11: =VLOOKUP(B11,[1]Sheet2!$B$2:$E$227,4,0) -> 信管 | F11: 2019-09-26
A12: 11 | B12: 洪钦敬 | C12: =VLOOKUP(B12,[1]Sheet2!$B$2:$E$227,2,0) -> 2019级 | D12: 本科生 | E12: =VLOOKUP(B12,[1]Sheet2!$B$2:$E$227,4,0) -> 信管 | F12: 2019-09-30
A13: 12 | B13: 江衡 | C13: =VLOOKUP(B13,[1]Sheet2!$B$2:$E$227,2,0) -> 2019级 | D13: 本科生 | E13: =VLOOKUP(B13,[1]Sheet2!$B$2:$E$227,4,0) -> 信管 | F13: 2019-10-01
... A21: 20 | B21: 武先鹏 | C21: =VLOOKUP(B21,[1]Sheet2!$B$2:$E$227,2,0) -> 2019级 | D21: 本科生 | E21: =VLOOKUP(B21,[1]Sheet2!$B$2:$E$227,4,0) -> 信管 | F21: 2020-03-28
A22: 21 | B22: 唐江 | C22: 2019级 | D22: 本科生 | E22: 信管 | F22: 2021-10-07
A23: 22 | B23: 龚力川 | C23: =VLOOKUP(B23,[1]Sheet2!$B$2:$E$227,2,0) -> 2019级 | D23: 本科生 | E23: =VLOOKUP(B23,[1]Sheet2!$B$2:$E$227,4,0) -> 信管 | F23: 2021-03-07
A24: 23 | B24: 梁茜柔 | C24: =VLOOKUP(B24,[1]Sheet2!$B$2:$E$227,2,0) -> 2019级 | D24: 本科生 | E24: =VLOOKUP(B24,[1]Sheet2!$B$2:$E$227,4,0) -> 信管 | F24: 2021-03-01
A25: 24 | B25: 招梓睿 | C25: =VLOOKUP(B25,[1]Sheet2!$B$2:$E$227,2,0) -> 2019级 | D25: 本科生 | E25: =VLOOKUP(B25,[1]Sheet2!$B$2:$E$227,4,0) -> 信计 | F25: 2019-10-01
A26: 25 | B26: 郭一鸣 | C26: =VLOOKUP(B26,[1]Sheet2!$B$2:$E$227,2,0) -> 2019级 | D26: 本科生 | E26: =VLOOKUP(B26,[1]Sheet2!$B$2:$E$227,4,0) -> 信计 | F26: 2019-10-06
A27: 26 | B27: 程睿 | C27: =VLOOKUP(B27,[1]Sheet2!$B$2:$E$227,2,0) -> 2019级 | D27: 本科生 | E27: =VLOOKUP(B27,[1]Sheet2!$B$2:$E$227,4,0) -> 信计 | F27: 2019-10-06
A28: 27 | B28: 范焕杰 | C28: =VLOOKUP(B28,[1]Sheet2!$B$2:$E$227,2,0) -> 2019级 | D28: 本科生 | E28: =VLOOKUP(B28,[1]Sheet2!$B$2:$E$227,4,0) -> 信计 | F28: 2019-10-01
A29: 28 | B29: 林睿聪 | C29: =VLOOKUP(B29,[1]Sheet2!$B$2:$E$227,2,0) -> 2019级 | D29: 本科生 | E29: =VLOOKUP(B29,[1]Sheet2!$B$2:$E$227,4,0) -> 信计 | F29: 2019-10-01
A30: 29 | B30: 张佳颖 | C30: =VLOOKUP(B30,[1]Sheet2!$B$2:$E$227,2,0) -> 2019级 | D30: 本科生 | E30: =VLOOKUP(B30,[1]Sheet2!$B$2:$E$227,4,0) -> 信计 | F30: 2019-10-06
A31: 30 | B31: 欧阳旭 | C31: =VLOOKUP(B31,[1]Sheet2!$B$2:$E$227,2,0) -> 2019级 | D31: 本科生 | E31: =VLOOKUP(B31,[1]Sheet2!$B$2:$E$227,4,0) -> 信计 | F31: 2019-10-01
A32: 31 | B32: 毛昱恒 | C32: =VLOOKUP(B32,[1]Sheet2!$B$2:$E$227,2,0) -> 2019级 | D32: 本科生 | E32: =VLOOKUP(B32,[1]Sheet2!$B$2:$E$227,4,0) -> 信计 | F32: 2019-10-07
A33: 32 | B33: 黄博 | C33: =VLOOKUP(B33,[1]Sheet2!$B$2:$E$227,2,0) -> 2019级 | D33: 本科生 | E33: =VLOOKUP(B33,[1]Sheet2!$B$2:$E$227,4,0) -> 信计 | F33: 2019-10-01
A34: 33 | B34: 袁华谦 | C34: =VLOOKUP(B34,[1]Sheet2!$B$2:$E$227,2,0) -> 2019级 | D34: 本科生 | E34: =VLOOKUP(B34,[1]Sheet2!$B$2:$E$227,4,0) -> 信计 | F34: 2019-10-07
... A42: 41 | B42: 曹怀志 | C42: =VLOOKUP(B42,[1]Sheet2!$B$2:$E$227,2,0) -> 2019级 | D42: 本科生 | E42: =VLOOKUP(B42,[1]Sheet2!$B$2:$E$227,4,0) -> 应数 | F42: 2021-03-09
A43: 42 | B43: 刘妍杞 | C43: =VLOOKUP(B43,Sheet2!$B$2:$E$227,2,0) -> 2020级 | D43: 本科生 | E43: =VLOOKUP(B43,Sheet2!$B$2:$E$227,4,0) -> 强基计划 | F43: 2021-10-08
A44: 43 | B44: 孙华峰 | C44: =VLOOKUP(B44,Sheet2!$B$2:$E$227,2,0) -> 2020级 | D44: 本科生 | E44: =VLOOKUP(B44,Sheet2!$B$2:$E$227,4,0) -> 强基计划 | F44: 2021-10-08
A45: 44 | B45: 常浩然 | C45: =VLOOKUP(B45,Sheet2!$B$2:$E$227,2,0) -> 2020级 | D45: 本科生 | E45: =VLOOKUP(B45,Sheet2!$B$2:$E$227,4,0) -> 强基计划 | F45: 2021-03-09
A46: 45 | B46: 蒋心语 | C46: 2020级 | D46: 本科生 | E46: 强基计划 | F46: 44625
A47: 46 | B47: 翟腾飞 | C47: 2020级 | D47: 本科生 | E47: 强基计划 | F47: 44824
A48: 47 | B48: 郑杰元 | C48: 2020级 | D48: 本科生 | E48: 强基计划 | F48: 44822
A49: 48 | B49: 许浩楠 | C49: 2020级 | D49: 本科生 | E49: 强基计划 | F49: 44826
A50: 49 | B50: 何俊霖 | C50: =VLOOKUP(B50,Sheet2!$B$2:$E$227,2,0) -> 2020级 | D50: 本科生 | E50: =VLOOKUP(B50,Sheet2!$B$2:$E$227,4,0) -> 统计 | F50: 2020-09-29
A51: 50 | B51: 李洁畅 | C51: 2020级 | D51: 本科生 | E51: 统计 | F51: 2021-10-07
A52: 51 | B52: 蒋健文 | C52: 2020级 | D52: 本科生 | E52: 统计 | F52: 2021-10-07
A53: 52 | B53: 叶银辉 | C53: 2020级 | D53: 本科生 | E53: 统计 | F53: 2021-10-07
A54: 53 | B54: 陈卓睿 | C54: =VLOOKUP(B54,Sheet2!$B$2:$E$227,2,0) -> 2020级 | D54: 本科生 | E54: =VLOOKUP(B54,Sheet2!$B$2:$E$227,4,0) -> 统计 | F54: 2020-09-27
...

Sheet Sheet3
A1: 姓名 | B1: 专业
A2: 黄佳羽 | B2: 统计
A3: 陈梓婷 | B3: 统计
A4: 任家莹 | B4: 统计
A5: 任婉莹 | B5: 统计
A6: 张敏 | B6: 统计
A7: 吕秋榆 | B7: 统计
A8: 方家欣 | B8: 统计
A9: 左晓乐 | B9: 统计
A10: 李欣 | B10: 统计
A11: 李泓润 | B11: 统计
A12: 林乐 | B12: 统计
... A268: 陈逸帆 | B268: 应数

Sheet Sheet2
A1: 序号 | B1: 姓 名 | C1: 年级 | D1: 类别 | E1: 班级 | F1: 提交入党申请书时间
A2: 1 | B2: 于泽睿 | C2: 2018级 | D2: 本科生 | E2: 数创 | F2: 44476
A3: 2 | B3: 吴启扬 | C3: 2018级 | D3: 本科生 | E3: 数创 | F3: 44477
A4: 3 | B4: 蒋玉琪 | C4: 2018级 | D4: 本科生 | E4: 数创 | F4: 2019-09-05
A5: 4 | B5: 周紫璇 | C5: 2018级 | D5: 本科生 | E5: 数创 | F5: 2019-09-09
A6: 5 | B6: 陈信宇 | C6: 2018级 | D6: 本科生 | E6: 统计 | F6: 43918
A7: 6 | B7: 姚静怡 | C7: 2018级 | D7: 本科生 | E7: 统计 | F7: 44087
A8: 7 | B8: 何韶峰 | C8: 2018级 | D8: 本科生 | E8: 统计 | F8: 44260
A9: 8 | B9: 黄锐浩 | C9: 2018级 | D9: 本科生 | E9: 统计 | F9: 2018-09-11
A10: 9 | B10: 谢容丰 | C10: 2018级 | D10: 本科生 | E10: 统计 | F10: 2018-09-14
A11: 10 | B11: 王宝琪 | C11: 2018级 | D11: 本科生 | E11: 统计 | F11: 2019-09-08
A12: 11 | B12: 陈志豪 | C12: 2018级 | D12: 本科生 | E12: 应数 | F12: 2019-03-17
A13: 12 | B13: 张钰杰 | C13: 2018级 | D13: 本科生 | E13: 应数 | F13: 2019-09-08
A14: 13 | B14: 鹿易 | C14: 2018级 | D14: 本科生 | E14: 信计 | F14: 44102
A15: 14 | B15: 黄华坚 | C15: 2018级 | D15: 本科生 | E15: 信计 | F15: 2019-03-07
A16: 15 | B16: 李丹芸 | C16: 2018级 | D16: 本科生 | E16: 信管 | F16: 2018-09-12
A17: 16 | B17: 吴国聪 | C17: 2018级 | D17: 本科生 | E17: 信管 | F17: 2018-09-12
A18: 17 | B18: 余文婷 | C18: 2018级 | D18: 本科生 | E18: 信管 | F18: 2018-09-13
A19: 18 | B19: 王欣宇 | C19: 2018级 | D19: 本科生 | E19: 信管 | F19: 2018-10-29
A20: 19 | B20: 王宏涛 | C20: 2019级 | D20: 研究生 | F20: 43913
A21: 20 | B21: 黄佳琪 | C21: 2019级 | D21: 研究生 | F21: 2015-03-25
A22: 21 | B22: 姜安国 | C22: 2019级 | D22: 研究生 | F22: 2019-10-01
A23: 22 | B23: 徐源 | C23: 2019级 | D23: 研究生 | F23: 2019-10-01
A24: 23 | B24: 王佳纯 | C24: 2019级 | D24: 本科生 | E24: 数创 | F24: 43745
A25: 24 | B25: 黄亦婷 | C25: 2019级 | D25: 本科生 | E25: 数创 | F25: 44099
A26: 25 | B26: 杨永华 | C26: 2019级 | D26: 本科生 | E26: 数创 | F26: 44476
A27: 26 | B27: 神俊杰 | C27: 2019级 | D27: 本科生 | E27: 数创 | F27: 44476
A28: 27 | B28: 吴伟添 | C28: 2019级 | D28: 本科生 | E28: 统计 | F28: 43734
A29: 28 | B29: 罗嘉伟 | C29: 2019级 | D29: 本科生 | E29: 统计 | F29: 43739
A30: 29 | B30: 郑泽宇 | C30: 2019级 | D30: 本科生 | E30: 统计 | F30: 43739
A31: 30 | B31: 熊明威 | C31: 2019级 | D31: 本科生 | E31: 统计 | F31: 43744
A32: 31 | B32: 苏汉标 | C32: 2019级 | D32: 本科生 | E32: 统计 | F32: 43745
A33: 32 | B33: 赵珊 | C33: 2019级 | D33: 本科生 | E33: 统计 | F33: 44088
A34: 33 | B34: 罗明涛 | C34: 2019级 | D34: 本科生 | E34: 统计 | F34: 44264
A35: 34 | B35: 康泓宇 | C35: 2019级 | D35: 本科生 | E35: 统计 | F35: 44475
... A72: 71 | B72: 罗湘 | C72: 2019级 | D72: 本科生 | E72: 信计 | F72: 44477
A73: 72 | B73: 梁鑫 | C73: 2020级 | D73: 研究生 | F73: 44114
A74: 73 | B74: 李宗浩 | C74: 2020级 | D74: 研究生 | F74: 44115
A75: 74 | B75: 侯颖馨 | C75: 2020级 | D75: 研究生 | F75: 44117
A76: 75 | B76: 尹珍 | C76: 2020级 | D76: 研究生 | F76: 44117
...
